BEGIN:VCALENDAR
VERSION:2.0
PRODID:-//VANSELUS is BASS - ECPv6.15.20//NONSGML v1.0//EN
CALSCALE:GREGORIAN
METHOD:PUBLISH
X-ORIGINAL-URL:https://vanselus.com
X-WR-CALDESC:Events for VANSELUS is BASS
REFRESH-INTERVAL;VALUE=DURATION:PT1H
X-Robots-Tag:noindex
X-PUBLISHED-TTL:PT1H
BEGIN:VTIMEZONE
TZID:America/Denver
BEGIN:DAYLIGHT
TZOFFSETFROM:-0700
TZOFFSETTO:-0600
TZNAME:MDT
DTSTART:20250309T090000
END:DAYLIGHT
BEGIN:STANDARD
TZOFFSETFROM:-0600
TZOFFSETTO:-0700
TZNAME:MST
DTSTART:20251102T080000
END:STANDARD
BEGIN:DAYLIGHT
TZOFFSETFROM:-0700
TZOFFSETTO:-0600
TZNAME:MDT
DTSTART:20260308T090000
END:DAYLIGHT
BEGIN:STANDARD
TZOFFSETFROM:-0600
TZOFFSETTO:-0700
TZNAME:MST
DTSTART:20261101T080000
END:STANDARD
BEGIN:DAYLIGHT
TZOFFSETFROM:-0700
TZOFFSETTO:-0600
TZNAME:MDT
DTSTART:20270314T090000
END:DAYLIGHT
BEGIN:STANDARD
TZOFFSETFROM:-0600
TZOFFSETTO:-0700
TZNAME:MST
DTSTART:20271107T080000
END:STANDARD
END:VTIMEZONE
BEGIN:VEVENT
DTSTART;TZID=America/Denver:20260424T173000
DTEND;TZID=America/Denver:20260424T203000
DTSTAMP:20260422T024811
CREATED:20260206T233713Z
LAST-MODIFIED:20260312T142428Z
UID:300-1777051800-1777062600@vanselus.com
SUMMARY:Atom Collective @ Left Hand Brewing
DESCRIPTION:Featuring:\nAdisa Nickerson – Trumpet\nRyan McCurry – Piano\nTodd Vanselus – Bass\nTobin Munsat – Drums \nBased in Colorado’s Front Range\, The Atom Collective is a rotating jazz combo dedicated to exploring music from the late 1950s through the 1980s. Drawing on the traditions of hard bop and modal jazz\, Atom reimagines the classics with subtle reinvention\, deep listening\, and a shared commitment to the pocket. \nThe Left Hand Tasting Room is a cozy\, inviting space where legendary beers meet laid-back Colorado charm. With plenty of room to gather\, catch up\, and sip something unforgettable\, it’s the perfect place to hunker down with friends\, family\, and a pint (or two). Some of our favorite memories have been brewed right here—and we can’t wait to make more with you.
URL:https://vanselus.com/event/atom-collective-left-hand-brewing-5/
LOCATION:Left Hand Brewing\, 1265 Boston Ave\, Longmont\, CO\, 80501\, United States
CATEGORIES:Atom Collective
ATTACH;FMTTYPE=image/png:https://vanselus.com/wp-content/uploads/2025/04/atom-site-sm-1.png
END:VEVENT
BEGIN:VEVENT
DTSTART;TZID=America/Denver:20260430T180000
DTEND;TZID=America/Denver:20260430T210000
DTSTAMP:20260422T024811
CREATED:20260206T233945Z
LAST-MODIFIED:20260206T233945Z
UID:305-1777572000-1777582800@vanselus.com
SUMMARY:Atom Collective @ St Julien Hotel
DESCRIPTION:Featuring\nAdisa Nickerson – Trumpet\nBrendan Krueger – Piano\nTodd VanSelus – Bass\nTobin Munsat – Drums \nBased in Colorado’s Front Range\, The Atom Collective is a rotating jazz combo dedicated to exploring music from the late 1950s through the 1980s. Drawing on the traditions of hard bop and modal jazz\, Atom reimagines the classics with subtle reinvention\, deep listening\, and a shared commitment to the pocket. \nThe swanky lobby at the St Julien Hotel is one of our favorite places to play\, with an enthusiastic and savvy audience\, great food\, inventive cocktails\, friendly staff\, and a chill atmosphere.
URL:https://vanselus.com/event/atom-collective-st-julien-hotel-8/
LOCATION:St Julien Hotel\, 900 Walnut St\, Boulder\, CO\, 80302\, United States
CATEGORIES:Atom Collective
ATTACH;FMTTYPE=image/png:https://vanselus.com/wp-content/uploads/2025/04/Atom-web-sm-3.png
END:VEVENT
BEGIN:VEVENT
DTSTART;TZID=America/Denver:20260515T173000
DTEND;TZID=America/Denver:20260515T203000
DTSTAMP:20260422T024811
CREATED:20260206T234038Z
LAST-MODIFIED:20260206T234038Z
UID:307-1778866200-1778877000@vanselus.com
SUMMARY:Atom Collective @ Left Hand Brewing
DESCRIPTION:Featuring:\nAdisa Nickerson – Trumpet\nAdam Bell – Sax\nRyan McCurry – Piano\nTodd Vanselus – Bass\nTobin Munsat – Drums \nBased in Colorado’s Front Range\, The Atom Collective is a rotating jazz combo dedicated to exploring music from the late 1950s through the 1980s. Drawing on the traditions of hard bop and modal jazz\, Atom reimagines the classics with subtle reinvention\, deep listening\, and a shared commitment to the pocket. \nThe Left Hand Tasting Room is a cozy\, inviting space where legendary beers meet laid-back Colorado charm. With plenty of room to gather\, catch up\, and sip something unforgettable\, it’s the perfect place to hunker down with friends\, family\, and a pint (or two). Some of our favorite memories have been brewed right here—and we can’t wait to make more with you.
URL:https://vanselus.com/event/atom-collective-left-hand-brewing-6/
LOCATION:Left Hand Brewing\, 1265 Boston Ave\, Longmont\, CO\, 80501\, United States
CATEGORIES:Atom Collective
ATTACH;FMTTYPE=image/png:https://vanselus.com/wp-content/uploads/2025/05/Atom-web-sm-5.png
END:VEVENT
BEGIN:VEVENT
DTSTART;TZID=America/Denver:20260528T180000
DTEND;TZID=America/Denver:20260528T210000
DTSTAMP:20260422T024811
CREATED:20260206T234138Z
LAST-MODIFIED:20260206T234138Z
UID:309-1779991200-1780002000@vanselus.com
SUMMARY:Atom Collective @ St Julien Hotel
DESCRIPTION:Featuring\nAdisa Nickerson – Trumpet\nKyle Banker – Piano\nTodd VanSelus – Bass\nTobin Munsat – Drums \nBased in Colorado’s Front Range\, The Atom Collective is a rotating jazz combo dedicated to exploring music from the late 1950s through the 1980s. Drawing on the traditions of hard bop and modal jazz\, Atom reimagines the classics with subtle reinvention\, deep listening\, and a shared commitment to the pocket. \nThe swanky lobby at the St Julien Hotel is one of our favorite places to play\, with an enthusiastic and savvy audience\, great food\, inventive cocktails\, friendly staff\, and a chill atmosphere.
URL:https://vanselus.com/event/atom-collective-st-julien-hotel-9/
LOCATION:St Julien Hotel\, 900 Walnut St\, Boulder\, CO\, 80302\, United States
CATEGORIES:Atom Collective
ATTACH;FMTTYPE=image/png:https://vanselus.com/wp-content/uploads/2025/04/Atom-web-sm-3.png
END:VEVENT
BEGIN:VEVENT
DTSTART;TZID=America/Denver:20260710T180000
DTEND;TZID=America/Denver:20260710T203000
DTSTAMP:20260422T024811
CREATED:20260312T142551Z
LAST-MODIFIED:20260312T142609Z
UID:311-1783706400-1783715400@vanselus.com
SUMMARY:Dan Buller Trio @ Johnson's Station
DESCRIPTION:Dan Buller – Guitar\nTodd VanSelus – Bass\nTobin Munsat – Drums
URL:https://vanselus.com/event/dan-buller-trio-july-10/
LOCATION:Johnson’s Station\, 1111 Neon Forest Circle\, Longmont\, CO\, 80504\, United States
CATEGORIES:Atom Collective
END:VEVENT
BEGIN:VEVENT
DTSTART;TZID=America/Denver:20260717T173000
DTEND;TZID=America/Denver:20260717T203000
DTSTAMP:20260422T024811
CREATED:20260312T143540Z
LAST-MODIFIED:20260312T143540Z
UID:314-1784309400-1784320200@vanselus.com
SUMMARY:Atom Collective @ Left Hand Garden
DESCRIPTION:Featuring:\nAdisa Nickerson – Trumpet\nAdam Bell – Sax\nRyan McCurry – Piano\nTodd Vanselus – Bass\nTobin Munsat – Drums \nBased in Colorado’s Front Range\, The Atom Collective is a rotating jazz combo dedicated to exploring music from the late 1950s through the 1980s. Drawing on the traditions of hard bop and modal jazz\, Atom reimagines the classics with subtle reinvention\, deep listening\, and a shared commitment to the pocket. \nThe Left Hand Garden is an incredible outdoor space with a half acre of artificial turf\, a shipping container bar\, picnic tables\, cornhole\, and more than enough room for the whole family to lounge\, run around\, and enjoy Colorado with a legendary Left Hand brew. Our best memories have been made at the Garden\, and we’re looking forward to seeing you there!
URL:https://vanselus.com/event/atom-collective-left-hand-garden-3/
LOCATION:The Garden @ Left Hand Brewing\, 1265 Boston Ave\, Longmont\, CO\, 80501\, United States
CATEGORIES:Atom Collective
END:VEVENT
BEGIN:VEVENT
DTSTART;VALUE=DATE:20260822
DTEND;VALUE=DATE:20260824
DTSTAMP:20260422T024811
CREATED:20251203T220838Z
LAST-MODIFIED:20260115T190612Z
UID:269-1787356800-1787529599@vanselus.com
SUMMARY:Atom Jazz Fest @ the Left Hand Garden
DESCRIPTION:Brought to you by the Atom Jazz Network and sponsored by KUVO radio! Visit the Atom Jazz Network for more information.
URL:https://vanselus.com/event/left-hand-jazz-festival/
LOCATION:The Garden @ Left Hand Brewing\, 1265 Boston Ave\, Longmont\, CO\, 80501\, United States
CATEGORIES:Atom Collective
ATTACH;FMTTYPE=image/png:https://vanselus.com/wp-content/uploads/2025/05/Atom-web-sm-5.png
END:VEVENT
END:VCALENDAR